BEGIN:VCALENDAR
VERSION:2.0
PRODID:-//SMYM NZ - ECPv5.1.5//NONSGML v1.0//EN
CALSCALE:GREGORIAN
METHOD:PUBLISH
X-WR-CALNAME:SMYM NZ
X-ORIGINAL-URL:https://smym.org.nz
X-WR-CALDESC:Events for SMYM NZ
BEGIN:VTIMEZONE
TZID:UTC
BEGIN:STANDARD
TZOFFSETFROM:+0000
TZOFFSETTO:+0000
TZNAME:UTC
DTSTART:20210101T000000
END:STANDARD
END:VTIMEZONE
BEGIN:VEVENT
DTSTART;VALUE=DATE:20210128
DTEND;VALUE=DATE:20210202
DTSTAMP:20210122T122726
CREATED:20201208T033744Z
LAST-MODIFIED:20201208T034121Z
UID:691-1611792000-1612223999@smym.org.nz
SUMMARY:Ablaze 2021
DESCRIPTION:Praise God\, \nWe are very happy to announce our second national youth conference Ablaze 2021. \nJan 28 Thursday 5 pm to 31 Jan Sun 12 pm for youth and Teens \n31 Jan 12 pm to I Feb 1 pm – Young Families. \nVenue- Christian Youth Camps Inc \n148 Waingaro Road \nNgaruawahia 3720\,Hamilton \nKindly see the registration link below. Please register in advance to secure your seat. Please contact your area leaders for more details. \nhttps://docs.google.com/forms/d/e/1FAIpQLSd_0wvDj6Ft1d8LcjtWknjMTTxMDuWBH1-gBzltc_VIld2EWg/viewform \nWith Prayers\nSMYM NZ YOUTH APOSTOLATE \n  \n  \n \n
URL:https://smym.org.nz/event/ablaze-2021/
LOCATION:Christian Youth camp\, 148 Waingaro Road\, Ngaruwahia\, Waikato\, Hamilton\, 3720\, New Zealand
END:VEVENT
END:VCALENDAR